BEGIN:VCALENDAR
VERSION:2.0
PRODID:-//JAPANESIABLE - ECPv6.15.17//NONSGML v1.0//EN
CALSCALE:GREGORIAN
METHOD:PUBLISH
X-WR-CALNAME:JAPANESIABLE
X-ORIGINAL-URL:https://japanesiable.com
X-WR-CALDESC:Events for JAPANESIABLE
REFRESH-INTERVAL;VALUE=DURATION:PT1H
X-Robots-Tag:noindex
X-PUBLISHED-TTL:PT1H
BEGIN:VTIMEZONE
TZID:Asia/Jakarta
BEGIN:STANDARD
TZOFFSETFROM:+0700
TZOFFSETTO:+0700
TZNAME:WIB
DTSTART:20250101T000000
END:STANDARD
END:VTIMEZONE
BEGIN:VEVENT
DTSTART;TZID=Asia/Jakarta:20260419T080000
DTEND;TZID=Asia/Jakarta:20260419T090000
DTSTAMP:20260425T003131
CREATED:20260329T113019Z
LAST-MODIFIED:20260329T113135Z
UID:88490-1776585600-1776589200@japanesiable.com
SUMMARY:【JLPT N3】 Syela Sensei & Natsumi Sensei
DESCRIPTION:
URL:https://japanesiable.com/event/%e3%80%90jlpt-n3%e3%80%91-syela-sensei-natsumi-sensei-47/
ATTACH;FMTTYPE=image/png:https://japanesiable.com/wp-content/uploads/2024/03/3.png
END:VEVENT
BEGIN:VEVENT
DTSTART;TZID=Asia/Jakarta:20260419T200000
DTEND;TZID=Asia/Jakarta:20260419T210000
DTSTAMP:20260425T003131
CREATED:20260329T113616Z
LAST-MODIFIED:20260329T113616Z
UID:88498-1776628800-1776632400@japanesiable.com
SUMMARY:【JLPT N1】 Hari Sensei & Yoko Sensei
DESCRIPTION:
URL:https://japanesiable.com/event/%e3%80%90jlpt-n1%e3%80%91-hari-sensei-yoko-sensei-109/
ATTACH;FMTTYPE=image/png:https://japanesiable.com/wp-content/uploads/2024/03/1.png
END:VEVENT
END:VCALENDAR