BEGIN:VCALENDAR
VERSION:2.0
PRODID:-//JAPANESIABLE - ECPv6.15.17//NONSGML v1.0//EN
CALSCALE:GREGORIAN
METHOD:PUBLISH
X-WR-CALNAME:JAPANESIABLE
X-ORIGINAL-URL:https://japanesiable.com
X-WR-CALDESC:Events for JAPANESIABLE
REFRESH-INTERVAL;VALUE=DURATION:PT1H
X-Robots-Tag:noindex
X-PUBLISHED-TTL:PT1H
BEGIN:VTIMEZONE
TZID:Asia/Jakarta
BEGIN:STANDARD
TZOFFSETFROM:+0700
TZOFFSETTO:+0700
TZNAME:WIB
DTSTART:20250101T000000
END:STANDARD
END:VTIMEZONE
BEGIN:VEVENT
DTSTART;TZID=Asia/Jakarta:20260330T200000
DTEND;TZID=Asia/Jakarta:20260330T210000
DTSTAMP:20260425T003559
CREATED:20260226T031314Z
LAST-MODIFIED:20260226T031314Z
UID:88113-1774900800-1774904400@japanesiable.com
SUMMARY:【JLPT N5】 Ganita Sensei & Ren Sensei
DESCRIPTION:
URL:https://japanesiable.com/event/%e3%80%90jlpt-n5%e3%80%91-ganita-sensei-ren-sensei-19/
ATTACH;FMTTYPE=image/png:https://japanesiable.com/wp-content/uploads/2024/03/5.png
END:VEVENT
END:VCALENDAR